BEGIN:VCALENDAR
VERSION:2.0
PRODID:-//St. John School - ECPv6.15.18//NONSGML v1.0//EN
CALSCALE:GREGORIAN
METHOD:PUBLISH
X-WR-CALNAME:St. John School
X-ORIGINAL-URL:https://stjohnocala.org
X-WR-CALDESC:Events for St. John School
REFRESH-INTERVAL;VALUE=DURATION:PT1H
X-Robots-Tag:noindex
X-PUBLISHED-TTL:PT1H
BEGIN:VTIMEZONE
TZID:UTC
BEGIN:STANDARD
TZOFFSETFROM:+0000
TZOFFSETTO:+0000
TZNAME:UTC
DTSTART:20250101T000000
END:STANDARD
END:VTIMEZONE
BEGIN:VEVENT
DTSTART;VALUE=DATE:20260423
DTEND;VALUE=DATE:20260426
DTSTAMP:20260425T122804
CREATED:20260121T163407Z
LAST-MODIFIED:20260121T163407Z
UID:4334-1776902400-1777161599@stjohnocala.org
SUMMARY:Treasure Island by Saints on Stage @ 7pm (Gym)
DESCRIPTION:
URL:https://stjohnocala.org/event/treasure-island-by-saints-on-stage-7pm-gym/
END:VEVENT
BEGIN:VEVENT
DTSTART;VALUE=DATE:20260426
DTEND;VALUE=DATE:20260502
DTSTAMP:20260425T122804
CREATED:20260121T164032Z
LAST-MODIFIED:20260121T164032Z
UID:4337-1777161600-1777679999@stjohnocala.org
SUMMARY:8th Grade Class Trip to Washington DC
DESCRIPTION:
URL:https://stjohnocala.org/event/8th-grade-class-trip-to-washington-dc/
END:VEVENT
BEGIN:VEVENT
DTSTART;VALUE=DATE:20260427
DTEND;VALUE=DATE:20260428
DTSTAMP:20260425T122804
CREATED:20260121T164629Z
LAST-MODIFIED:20260121T164629Z
UID:4339-1777248000-1777334399@stjohnocala.org
SUMMARY:Pet Day for 6th Grade
DESCRIPTION:
URL:https://stjohnocala.org/event/pet-day-for-6th-grade/
END:VEVENT
BEGIN:VEVENT
DTSTART;VALUE=DATE:20260430
DTEND;VALUE=DATE:20260501
DTSTAMP:20260425T122804
CREATED:20260121T164808Z
LAST-MODIFIED:20260121T164808Z
UID:4343-1777507200-1777593599@stjohnocala.org
SUMMARY:Water Day Grades K5-2nd (Baseball Field)
DESCRIPTION:
URL:https://stjohnocala.org/event/water-day-grades-k5-2nd-baseball-field/
END:VEVENT
BEGIN:VEVENT
DTSTART;TZID=UTC:20260430T093000
DTEND;TZID=UTC:20260430T103000
DTSTAMP:20260425T122804
CREATED:20260121T164728Z
LAST-MODIFIED:20260121T164728Z
UID:4341-1777541400-1777545000@stjohnocala.org
SUMMARY:Senior Chapel (Church)
DESCRIPTION:
URL:https://stjohnocala.org/event/senior-chapel-church/
END:VEVENT
END:VCALENDAR